Workbook

Sheet All_nutrient
A1: Date | B1: Weight | C1: Exerc. Cal | D1: Cal eat | E1: Protein | F1: Total fat | G1: Sat. Fat | H1: Mono. Fat | I1: Poly. Fat | J1: Carbohydrate | K1: Fiber | L1: Cholesterol | M1: V. A | N1: V. B6 | O1: V. B12 | P1: V. C | Q1: V. E | R1: Thiamine | S1: Folacin | T1: Riboflavin | U1: Niacin | V1: Panto. Acid | W1: Calcium | X1: Copper | Y1: Iron | Z1: Magnesium | AA1: Manganese | AB1: Phosphorus | AC1: Potassium | AD1: Selenium | AE1: Sodium | AF1: Zinc | AG1: Tyrosine | AH1: Lysine | AI1: Phenylalanine | AJ1: Leucine | AK1: Valine | AL1: Methionine | AM1: Cystine | AN1: Tryptophan | AO1: Threonine | AP1: Isoleucine
A2: DASH target
A3: Target--> | B3: 160 | C3: 250 | D3: 1800 | E3: 72 | F3: 54 | G3: 9 | H3: =37/0.75 -> 49.333333 | I3: =19/1.68 -> 11.309524 | J3: 300 | K3: =45/1.5 -> 30 | L3: 300 | M3: 7500 | N3: 1.7 | O3: 2.4 | P3: 60 | Q3: 10 | R3: 1.2 | S3: 400 | T3: 1.3 | U3: 16 | V3: 5 | W3: 1200 | X3: 1 | Y3: 10 | Z3: 420 | AA3: 3.5 | AB3: 700 | AC3: 2000 | AD3: 70 | AE3: 2400 | AF3: 15 | AG3: =2/2.08 -> 0.96153846 | AH3: =2.621/3.64 -> 0.72005495 | AI3: =3.008/3.13 -> 0.96102236 | AJ3: =4.473/4.66 -> 0.95987124 | AK3: =2.944/3.5 -> 0.84114286 | AL3: =1.056/3.52 -> 0.3 | AM3: =1.149/3.83 -> 0.3 | AN3: =0.751/4.17 -> 0.18009592 | AO3: =2.072/4.32 -> 0.47962963 | AP3: =2.538/3.53 -> 0.71898017
A4: 43455 | B4: 201.8 | C4: 269 | D4: 2998.1 | E4: 209.87 | F4: 145.71 | G4: 49.431 | H4: 52.065 | I4: 31.469 | J4: 202 | K4: 40.295 | L4: 172 | M4: 6125.1 | N4: 3.98 | O4: 9.449 | P4: 130.35 | Q4: 10.382 | R4: 1.863 | S4: 402.61 | T4: 3.922 | U4: 52.459 | V4: 11 | W4: 1547.5 | X4: 2.228 | Y4: 22.298 | Z4: 522.42 | AA4: 5.257 | AB4: 2773 | AC4: 4626.9 | AD4: 390.1 | AE4: 3718 | AF4: 22.758 | AG4: 7.62 | AH4: 16.532 | AI4: 9 | AJ4: 16.773 | AK4: 11.605 | AL4: 5.442 | AM4: 2.82 | AN4: 2.526 | AO4: 8.996 | AP4: 10.982
A5: 43456 | B5: 202.6 | C5: 242 | D5: 1693.1 | E5: 73.323 | F5: 21.828 | G5: 3.571 | H5: 4.834 | I5: 10.881 | J5: 317 | K5: 57.533 | L5: 82 | M5: 5328.4 | N5: 2.079 | O5: 2.691 | P5: 113.59 | Q5: 16.894 | R5: 1.274 | S5: 506.79 | T5: 2.045 | U5: 9.369 | V5: 6 | W5: 1329.2 | X5: 2.435 | Y5: 21.363 | Z5: 505.7 | AA5: 5.867 | AB5: 1550.6 | AC5: 5732.5 | AD5: 113.77 | AE5: 1096.3 | AF5: 12.016 | AG5: 2.592 | AH5: 5.253 | AI5: 3 | AJ5: 6.246 | AK5: 4.256 | AL5: 1.462 | AM5: 0.809 | AN5: 0.941 | AO5: 3.199 | AP5: 3.666
A6: 43457 | B6: 202.2 | C6: 258 | D6: 2065.8 | E6: 115.78 | F6: 98.177 | G6: 30.545 | H6: 37.139 | I6: 21.589 | J6: 198 | K6: 27.925 | L6: 127 | M6: 17351.5 | N6: 2.902 | O6: 5.897 | P6: 37.634 | Q6: 8.215 | R6: 0.973 | S6: 222.86 | T6: 3.387 | U6: 14.571 | V6: 8 | W6: 1616.3 | X6: 1.907 | Y6: 19.502 | Z6: 507.71 | AA6: 4.479 | AB6: 2178.2 | AC6: 4787.2 | AD6: 189.09 | AE6: 2473.3 | AF6: 15.667 | AG6: 4.79 | AH6: 9.029 | AI6: 5 | AJ6: 10.036 | AK6: 6.987 | AL6: 2.977 | AM6: 1.628 | AN6: 1.525 | AO6: 5.185 | AP6: 6.342
A7: 43458 | B7: 201.8 | C7: 248 | D7: 2232.7 | E7: 147.2 | F7: 67.187 | G7: 17.5 | H7: 20.398 | I7: 20.808 | J7: 275 | K7: 31.931 | L7: 936 | M7: 8302 | N7: 4.281 | O7: 6.448 | P7: 108.12 | Q7: 8.539 | R7: 1.664 | S7: 421.29 | T7: 4.119 | U7: 49.573 | V7: 9 | W7: 1639.2 | X7: 1.478 | Y7: 26.265 | Z7: 526.23 | AA7: 4.783 | AB7: 2390.2 | AC7: 5020 | AD7: 246.74 | AE7: 2045.8 | AF7: 18.157 | AG7: 5.667 | AH7: 11.769 | AI7: 6 | AJ7: 12.328 | AK7: 8.203 | AL7: 4.025 | AM7: 2.015 | AN7: 1.807 | AO7: 6.495 | AP7: 7.927
A8: 43459 | B8: 202.2 | C8: 71 | D8: 3452.2 | E8: 159.82 | F8: 151.73 | G8: 49.103 | H8: 32.861 | I8: 15.879 | J8: 376 | K8: 32.63 | L8: 787 | M8: 5968.7 | N8: 4.558 | O8: 4.322 | P8: 100.93 | Q8: 6.572 | R8: 1.569 | S8: 290.51 | T8: 2.777 | U8: 57.589 | V8: 9 | W8: 1282.1 | X8: 2.077 | Y8: 12.698 | Z8: 595.82 | AA8: 5.992 | AB8: 2467.8 | AC8: 5130.2 | AD8: 353.29 | AE8: 3893.7 | AF8: 17.296 | AG8: 5.932 | AH8: 12.545 | AI8: 6 | AJ8: 12.283 | AK8: 8.454 | AL8: 3.948 | AM8: 1.786 | AN8: 1.824 | AO8: 6.65 | AP8: 7.742
A9: 43460 | B9: 202.2 | C9: 108 | D9: 3155.2 | E9: 99.601 | F9: 114.51 | G9: 41.185 | H9: 39.432 | I9: 11.76 | J9: 447 | K9: 29.365 | L9: 242 | M9: 5891.3 | N9: 3.161 | O9: 4.64 | P9: 50.06 | Q9: 7.117 | R9: 3.015 | S9: 272.94 | T9: 2.654 | U9: 23.955 | V9: 6 | W9: 1202.5 | X9: 2.002 | Y9: 14.428 | Z9: 524.99 | AA9: 4.979 | AB9: 1996.6 | AC9: 4554.3 | AD9: 131.54 | AE9: 3827.5 | AF9: 13.968 | AG9: 3.509 | AH9: 6.75 | AI9: 4 | AJ9: 8.159 | AK9: 4.973 | AL9: 2.206 | AM9: 1.226 | AN9: 1.156 | AO9: 4.036 | AP9: 4.44
A10: 43461 | B10: 203.6 | C10: 214 | D10: 1253.4 | E10: 88.035 | F10: 51.84 | G10: 10.356 | H10: 16.899 | I10: 20.396 | J10: 113 | K10: 14.155 | L10: 167 | M10: 363 | N10: 1.634 | O10: 1.892 | P10: 1.95 | Q10: 5.978 | R10: 2.21 | S10: 145.9 | T10: 1.004 | U10: 30.704 | V10: 2 | W10: 198.23 | X10: 0.782 | Y10: 9.207 | Z10: 240.99 | AA10: 4.711 | AB10: 1181.5 | AC10: 1537.5 | AD10: 209.39 | AE10: 4524.3 | AF10: 9.77 | AG10: 3.043 | AH10: 6.68 | AI10: 3 | AJ10: 6.732 | AK10: 4.224 | AL10: 2.187 | AM10: 1.304 | AN10: 1.067 | AO10: 3.63 | AP10: 4.043
A11: 43462 | B11: 204.2 | C11: 384 | D11: 2865.7 | E11: 132.32 | F11: 97.315 | G11: 32.533 | H11: 28.359 | I11: 20.176 | J11: 386 | K11: 50.682 | L11: 200 | M11: 5965.6 | N11: 3.316 | O11: 4.1 | P11: 96.568 | Q11: 19.275 | R11: 2.284 | S11: 777.88 | T11: 3.019 | U11: 30.36 | V11: 6 | W11: 1738.7 | X11: 2.698 | Y11: 40.529 | Z11: 601.14 | AA11: 6.075 | AB11: 2252.6 | AC11: 4888.4 | AD11: 234.39 | AE11: 4895.3 | AF11: 22.76 | AG11: 4.439 | AH11: 9.145 | AI11: 6 | AJ11: 10.415 | AK11: 6.911 | AL11: 2.777 | AM11: 1.547 | AN11: 1.54 | AO11: 5.161 | AP11: 6.189
A12: 43463 | B12: 204.2 | C12: 269 | D12: 2915.5 | E12: 220.43 | F12: 84.697 | G12: 21.274 | H12: 27.052 | I12: 28.697 | J12: 327 | K12: 49.181 | L12: 588 | M12: 64421.1 | N12: 4.84 | O12: 4.72 | P12: 97.722 | Q12: 21.015 | R12: 3.219 | S12: 598.58 | T12: 3.136 | U12: 33.674 | V12: 11 | W12: 1316.8 | X12: 3.508 | Y12: 32.451 | Z12: 716.53 | AA12: 6.995 | AB12: 2741.9 | AC12: 6948.2 | AD12: 175.67 | AE12: 4133.1 | AF12: 31.696 | AG12: 7.777 | AH12: 17.695 | AI12: 9 | AJ12: 17.282 | AK12: 11.345 | AL12: 5.37 | AM12: 2.697 | AN12: 2.586 | AO12: 9.374 | AP12: 10.552
A13: 43464 | B13: 205.8 | C13: 73 | D13: 1586.3 | E13: 56.124 | F13: 41.229 | G13: 10.554 | H13: 16.911 | I13: 11.022 | J13: 261 | K13: 28.967 | L13: 24 | M13: 3178.5 | N13: 2.348 | O13: 2.786 | P13: 274.69 | Q13: 5.663 | R13: 1.276 | S13: 245.15 | T13: 1.014 | U13: 19.366 | V13: 2 | W13: 354.56 | X13: 1.802 | Y13: 12.094 | Z13: 333.56 | AA13: 6.806 | AB13: 893.63 | AC13: 2175.8 | AD13: 106.85 | AE13: 1191.3 | AF13: 8.342 | AG13: 2.639 | AH13: 5.049 | AI13: 3 | AJ13: 5.849 | AK13: 3.935 | AL13: 1.609 | AM13: 0.85 | AN13: 0.91 | AO13: 2.948 | AP13: 3.45
A14: 43465 | B14: 206 | C14: 201 | D14: 3322.6 | E14: 164.51 | F14: 85.164 | G14: 23.424 | H14: 32.746 | I14: 21.987 | J14: 504 | K14: 45.887 | L14: 229 | M14: 9758.7 | N14: 3.454 | O14: 12.39 | P14: 224.98 | Q14: 14.667 | R14: 2.281 | S14: 485.19 | T14: 3.508 | U14: 63.49 | V14: 10 | W14: 1488.4 | X14: 3.605 | Y14: 30.568 | Z14: 768.64 | AA14: 11.052 | AB14: 3130.3 | AC14: 6279.3 | AD14: 369.73 | AE14: 9384.9 | AF14: 79.011 | AG14: 7.631 | AH14: 15.081 | AI14: 8 | AJ14: 16.054 | AK14: 10.687 | AL14: 4.866 | AM14: 2.493 | AN14: 2.501 | AO14: 8.223 | AP14: 9.92
A15: 43466 | B15: 207.2 | C15: 70 | D15: 1265.7 | E15: 87.014 | F15: 21.892 | G15: 2.942 | H15: 8.157 | I15: 8.819 | J15: 196 | K15: 29.11 | L15: 89 | M15: 8168 | N15: 1.687 | O15: 6.905 | P15: 17.455 | Q15: 10.428 | R15: 0.966 | S15: 311.32 | T15: 1.884 | U15: 17.869 | V15: 6 | W15: 1352.1 | X15: 1.983 | Y15: 18.722 | Z15: 600.73 | AA15: 5.199 | AB15: 1858.7 | AC15: 5260.9 | AD15: 128.41 | AE15: 579.92 | AF15: 10.743 | AG15: 3.155 | AH15: 6.642 | AI15: 4 | AJ15: 7.306 | AK15: 4.874 | AL15: 1.988 | AM15: 0.96 | AN15: 1.12 | AO15: 3.729 | AP15: 4.263
... A44: 43495 | B44: 202.6 | C44: 111 | D44: 2502.2 | E44: 119.61 | F44: 68.662 | G44: 12.623 | H44: 26.522 | I44: 23.894 | J44: 365 | K44: 59.362 | L44: 71 | M44: 4715 | N44: 5.281 | O44: 5.753 | P44: 122.72 | Q44: 15.628 | R44: 12.291 | S44: 357.79 | T44: 7.227 | U44: 68.756 | V44: 8 | W44: 2650 | X44: 4.672 | Y44: 37.022 | Z44: 637.8 | AA44: 11.138 | AB44: 3780.2 | AC44: 4760.4 | AD44: 212.32 | AE44: 8185.7 | AF44: 26.183 | AG44: 3.78 | AH44: 5.928 | AI44: 4 | AJ44: 7.651 | AK44: 5.332 | AL44: 2.19 | AM44: 1.173 | AN44: 1.21 | AO44: 3.849 | AP44: 4.648

Sheet Moving 7 day ave
A1: =All_nutrient!A1 -> Date | B1: =All_nutrient!B1 -> Weight | C1: =All_nutrient!C1 -> Exerc. Cal | D1: =All_nutrient!D1 -> Cal eat | E1: Net Kcal | F1: =All_nutrient!E1 -> Protein | G1: =All_nutrient!F1 -> Total fat | H1: =All_nutrient!G1 -> Sat. Fat | I1: =All_nutrient!H1 -> Mono. Fat | J1: =All_nutrient!I1 -> Poly. Fat | K1: =All_nutrient!J1 -> Carbohydrate | L1: =All_nutrient!K1 -> Fiber | M1: =All_nutrient!L1 -> Cholesterol | ... Q1: =All_nutrient!P1 -> V. C | R1: V. E | S1: =All_nutrient!R1 -> Thiamine | T1: =All_nutrient!S1 -> Folacin | U1: =All_nutrient!T1 -> Riboflavin | V1: =All_nutrient!U1 -> Niacin | W1: =All_nutrient!V1 -> Panto. Acid | X1: Ca | Y1: Cu | Z1: =All_nutrient!Y1 -> Iron | AA1: =All_nutrient!Z1 -> Magnesium | AB1: =All_nutrient!AA1 -> Manganese | AC1: =All_nutrient!AB1 -> Phosphorus | AD1: =All_nutrient!AC1 -> Potassium | AE1: =All_nutrient!AD1 -> Selenium | AF1: =All_nutrient!AE1 -> Sodium | AG1: =All_nutrient!AF1 -> Zinc | ... AQ1: =All_nutrient!AP1 -> Isoleucine
A2: Dash target | L2: 30 | X2: 1200 | AA2: 500 | AD2: 4500 | AF2: 1500
A3: =All_nutrient!A3 -> Target--> | B3: =All_nutrient!B3 -> 160 | C3: =All_nutrient!C3 -> 250 | D3: 1800 | E3: 1400 | F3: 72 | G3: 54 | H3: 9 | I3: =54-9-10 -> 35 | J3: =54-9-35 -> 10 | K3: 300 | L3: =45/1.5 -> 30 | M3: 300 | N3: 7500 | O3: 1.7 | P3: 2.4 | Q3: 60 | R3: 10 | S3: 1.2 | T3: 400 | U3: 1.3 | V3: 16 | W3: 5 | X3: 1200 | Y3: 1 | Z3: 10 | AA3: 420 | AB3: 3.5 | AC3: 700 | AD3: 2000 | AE3: 70 | AF3: 2400 | AG3: 15 | AH3: =2/2.08 -> 0.96153846 | AI3: =2.621/3.64 -> 0.72005495 | AJ3: =3.008/3.13 -> 0.96102236 | AK3: =4.473/4.66 -> 0.95987124 | AL3: =2.944/3.5 -> 0.84114286 | AM3: =1.056/3.52 -> 0.3 | AN3: =1.149/3.83 -> 0.3 | AO3: =0.751/4.17 -> 0.18009592 | AP3: =2.072/4.32 -> 0.47962963 | AQ3: =2.538/3.53 -> 0.71898017
A4: =All_nutrient!A15 -> 43466 | B4: =SUM(All_nutrient!B9:'All_nutrient'!B15)/7 -> 204.74286 | C4: =SUM(All_nutrient!C9:'All_nutrient'!C15)/7 -> 188.42857 | D4: =SUM(All_nutrient!D9:'All_nutrient'!D15)/7 -> 2337.7714 | E4: =D4-C4 -> 2149.3429 | F4: =SUM(All_nutrient!E9:'All_nutrient'!E15)/7 -> 121.14771 | G4: =SUM(All_nutrient!F9:'All_nutrient'!F15)/7 -> 70.949571 | H4: =SUM(All_nutrient!G9:'All_nutrient'!G15)/7 -> 20.324 | I4: =SUM(All_nutrient!H9:'All_nutrient'!H15)/7 -> 24.222286 | J4: =SUM(All_nutrient!I9:'All_nutrient'!I15)/7 -> 17.551 | K4: =SUM(All_nutrient!J9:'All_nutrient'!J15)/7 -> 319.14286 | L4: =SUM(All_nutrient!K9:'All_nutrient'!K15)/7 -> 35.335286 | M4: =SUM(All_nutrient!L9:'All_nutrient'!L15)/7 -> 219.85714 | ... AQ4: =SUM(All_nutrient!AP9:'All_nutrient'!AP15)/7 -> 6.1224286
A5: =All_nutrient!A16 -> 43467 | B5: =SUM(All_nutrient!B10:'All_nutrient'!B16)/7 -> 205.14286 | C5: =SUM(All_nutrient!C10:'All_nutrient'!C16)/7 -> 233 | D5: =SUM(All_nutrient!D10:'All_nutrient'!D16)/7 -> 2194.1857 | E5: =D5-C5 -> 1961.1857 | F5: =SUM(All_nutrient!E10:'All_nutrient'!E16)/7 -> 128.13329 | G5: =SUM(All_nutrient!F10:'All_nutrient'!F16)/7 -> 60.184857 | H5: =SUM(All_nutrient!G10:'All_nutrient'!G16)/7 -> 15.998571 | I5: =SUM(All_nutrient!H10:'All_nutrient'!H16)/7 -> 20.353571 | J5: =SUM(All_nutrient!I10:'All_nutrient'!I16)/7 -> 17.547143 | K5: =SUM(All_nutrient!J10:'All_nutrient'!J16)/7 -> 300.85714 | L5: =SUM(All_nutrient!K10:'All_nutrient'!K16)/7 -> 35.926286 | M5: =SUM(All_nutrient!L10:'All_nutrient'!L16)/7 -> 224.42857 | ... AQ5: =SUM(All_nutrient!AP10:'All_nutrient'!AP16)/7 -> 6.5911429
A6: =All_nutrient!A17 -> 43468 | B6: =SUM(All_nutrient!B11:'All_nutrient'!B17)/7 -> 205.28571 | C6: =SUM(All_nutrient!C11:'All_nutrient'!C17)/7 -> 304.57143 | D6: =SUM(All_nutrient!D11:'All_nutrient'!D17)/7 -> 2015.1286 | E6: =D6-C6 -> 1710.5571 | F6: =SUM(All_nutrient!E11:'All_nutrient'!E17)/7 -> 115.55686 | G6: =SUM(All_nutrient!F11:'All_nutrient'!F17)/7 -> 52.779143 | H6: =SUM(All_nutrient!G11:'All_nutrient'!G17)/7 -> 14.519143 | I6: =SUM(All_nutrient!H11:'All_nutrient'!H17)/7 -> 17.939429 | J6: =SUM(All_nutrient!I11:'All_nutrient'!I17)/7 -> 14.633429 | K6: =SUM(All_nutrient!J11:'All_nutrient'!J17)/7 -> 284.71429 | L6: =SUM(All_nutrient!K11:'All_nutrient'!K17)/7 -> 33.904143 | M6: =SUM(All_nutrient!L11:'All_nutrient'!L17)/7 -> 200.57143 | ... AQ6: =SUM(All_nutrient!AP11:'All_nutrient'!AP17)/7 -> 6.0135714
A7: =All_nutrient!A18 -> 43469 | B7: =SUM(All_nutrient!B12:'All_nutrient'!B18)/7 -> 204.91429 | C7: =SUM(All_nutrient!C12:'All_nutrient'!C18)/7 -> 320 | D7: =SUM(All_nutrient!D12:'All_nutrient'!D18)/7 -> 1963.7429 | E7: =D7-C7 -> 1643.7429 | F7: =SUM(All_nutrient!E12:'All_nutrient'!E18)/7 -> 118.78829 | G7: =SUM(All_nutrient!F12:'All_nutrient'!F18)/7 -> 49.162143 | H7: =SUM(All_nutrient!G12:'All_nutrient'!G18)/7 -> 12.289286 | I7: =SUM(All_nutrient!H12:'All_nutrient'!H18)/7 -> 17.680857 | J7: =SUM(All_nutrient!I12:'All_nutrient'!I18)/7 -> 14.738143 | K7: =SUM(All_nutrient!J12:'All_nutrient'!J18)/7 -> 276.42857 | L7: =SUM(All_nutrient!K12:'All_nutrient'!K18)/7 -> 34.537571 | M7: =SUM(All_nutrient!L12:'All_nutrient'!L18)/7 -> 292.28571 | ... AQ7: =SUM(All_nutrient!AP12:'All_nutrient'!AP18)/7 -> 6.2641429
A8: =All_nutrient!A19 -> 43470 | B8: =SUM(All_nutrient!B13:'All_nutrient'!B19)/7 -> 204.71429 | C8: =SUM(All_nutrient!C13:'All_nutrient'!C19)/7 -> 414.71429 | D8: =SUM(All_nutrient!D13:'All_nutrient'!D19)/7 -> 1752.4857 | E8: =D8-C8 -> 1337.7714 | F8: =SUM(All_nutrient!E13:'All_nutrient'!E19)/7 -> 102.84543 | G8: =SUM(All_nutrient!F13:'All_nutrient'!F19)/7 -> 45.381143 | H8: =SUM(All_nutrient!G13:'All_nutrient'!G19)/7 -> 11.258143 | I8: =SUM(All_nutrient!H13:'All_nutrient'!H19)/7 -> 16.589571 | J8: =SUM(All_nutrient!I13:'All_nutrient'!I19)/7 -> 13.417286 | K8: =SUM(All_nutrient!J13:'All_nutrient'!J19)/7 -> 249.57143 | L8: =SUM(All_nutrient!K13:'All_nutrient'!K19)/7 -> 31.706714 | M8: =SUM(All_nutrient!L13:'All_nutrient'!L19)/7 -> 294.85714 | ... AQ8: =SUM(All_nutrient!AP13:'All_nutrient'!AP19)/7 -> 5.6145714
A9: =All_nutrient!A20 -> 43471 | B9: =SUM(All_nutrient!B14:'All_nutrient'!B20)/7 -> 204.45714 | C9: =SUM(All_nutrient!C14:'All_nutrient'!C20)/7 -> 509.28571 | D9: =SUM(All_nutrient!D14:'All_nutrient'!D20)/7 -> 1785.7286 | E9: =D9-C9 -> 1276.4429 | F9: =SUM(All_nutrient!E14:'All_nutrient'!E20)/7 -> 109.87486 | G9: =SUM(All_nutrient!F14:'All_nutrient'!F20)/7 -> 50.194143 | H9: =SUM(All_nutrient!G14:'All_nutrient'!G20)/7 -> 12.799714 | I9: =SUM(All_nutrient!H14:'All_nutrient'!H20)/7 -> 18.190143 | J9: =SUM(All_nutrient!I14:'All_nutrient'!I20)/7 -> 14.370143 | K9: =SUM(All_nutrient!J14:'All_nutrient'!J20)/7 -> 240.57143 | L9: =SUM(All_nutrient!K14:'All_nutrient'!K20)/7 -> 32.438429 | M9: =SUM(All_nutrient!L14:'All_nutrient'!L20)/7 -> 406.85714 | ... AQ9: =SUM(All_nutrient!AP14:'All_nutrient'!AP20)/7 -> 5.9237143
A10: =All_nutrient!A21 -> 43472 | B10: =SUM(All_nutrient!B15:'All_nutrient'!B21)/7 -> 204 | C10: =SUM(All_nutrient!C15:'All_nutrient'!C21)/7 -> 504.14286 | D10: =SUM(All_nutrient!D15:'All_nutrient'!D21)/7 -> 1640.6429 | E10: =D10-C10 -> 1136.5 | F10: =SUM(All_nutrient!E15:'All_nutrient'!E21)/7 -> 99.5 | G10: =SUM(All_nutrient!F15:'All_nutrient'!F21)/7 -> 47.756571 | H10: =SUM(All_nutrient!G15:'All_nutrient'!G21)/7 -> 11.470286 | I10: =SUM(All_nutrient!H15:'All_nutrient'!H21)/7 -> 17.181857 | J10: =SUM(All_nutrient!I15:'All_nutrient'!I21)/7 -> 14.698429 | K10: =SUM(All_nutrient!J15:'All_nutrient'!J21)/7 -> 219.14286 | L10: =SUM(All_nutrient!K15:'All_nutrient'!K21)/7 -> 32.101429 | M10: =SUM(All_nutrient!L15:'All_nutrient'!L21)/7 -> 376.57143 | ... AQ10: =SUM(All_nutrient!AP15:'All_nutrient'!AP21)/7 -> 5.1778571
A11: =All_nutrient!A22 -> 43473 | B11: =SUM(All_nutrient!B16:'All_nutrient'!B22)/7 -> 203.51429 | C11: =SUM(All_nutrient!C16:'All_nutrient'!C22)/7 -> 621.71429 | D11: =SUM(All_nutrient!D16:'All_nutrient'!D22)/7 -> 1802.5286 | E11: =D11-C11 -> 1180.8143 | F11: =SUM(All_nutrient!E16:'All_nutrient'!E22)/7 -> 100.88214 | G11: =SUM(All_nutrient!F16:'All_nutrient'!F22)/7 -> 55.655714 | H11: =SUM(All_nutrient!G16:'All_nutrient'!G22)/7 -> 14.202143 | I11: =SUM(All_nutrient!H16:'All_nutrient'!H22)/7 -> 20.903143 | J11: =SUM(All_nutrient!I16:'All_nutrient'!I22)/7 -> 15.948 | K11: =SUM(All_nutrient!J16:'All_nutrient'!J22)/7 -> 241.14286 | L11: =SUM(All_nutrient!K16:'All_nutrient'!K22)/7 -> 34.395429 | M11: =SUM(All_nutrient!L16:'All_nutrient'!L22)/7 -> 368 | ... AQ11: =SUM(All_nutrient!AP16:'All_nutrient'!AP22)/7 -> 5.2945714
A12: =All_nutrient!A23 -> 43474 | B12: =SUM(All_nutrient!B17:'All_nutrient'!B23)/7 -> 203.37143 | C12: =SUM(All_nutrient!C17:'All_nutrient'!C23)/7 -> 591.14286 | D12: =SUM(All_nutrient!D17:'All_nutrient'!D23)/7 -> 1789.3857 | E12: =D12-C12 -> 1198.2429 | F12: =SUM(All_nutrient!E17:'All_nutrient'!E23)/7 -> 98.195 | G12: =SUM(All_nutrient!F17:'All_nutrient'!F23)/7 -> 58.356143 | H12: =SUM(All_nutrient!G17:'All_nutrient'!G23)/7 -> 15.757143 | I12: =SUM(All_nutrient!H17:'All_nutrient'!H23)/7 -> 21.916429 | J12: =SUM(All_nutrient!I17:'All_nutrient'!I23)/7 -> 15.911857 | K12: =SUM(All_nutrient!J17:'All_nutrient'!J23)/7 -> 236 | L12: =SUM(All_nutrient!K17:'All_nutrient'!K23)/7 -> 36.362857 | M12: =SUM(All_nutrient!L17:'All_nutrient'!L23)/7 -> 356 | ... AQ12: =SUM(All_nutrient!AP17:'All_nutrient'!AP23)/7 -> 5.263
A13: =All_nutrient!A24 -> 43475 | B13: =SUM(All_nutrient!B18:'All_nutrient'!B24)/7 -> 203.05714 | C13: =SUM(All_nutrient!C18:'All_nutrient'!C24)/7 -> 656.57143 | D13: =SUM(All_nutrient!D18:'All_nutrient'!D24)/7 -> 1789.3857 | E13: =D13-C13 -> 1132.8143 | F13: =SUM(All_nutrient!E18:'All_nutrient'!E24)/7 -> 98.195 | G13: =SUM(All_nutrient!F18:'All_nutrient'!F24)/7 -> 58.356143 | H13: =SUM(All_nutrient!G18:'All_nutrient'!G24)/7 -> 15.757143 | I13: =SUM(All_nutrient!H18:'All_nutrient'!H24)/7 -> 21.916429 | J13: =SUM(All_nutrient!I18:'All_nutrient'!I24)/7 -> 15.911857 | K13: =SUM(All_nutrient!J18:'All_nutrient'!J24)/7 -> 236 | L13: =SUM(All_nutrient!K18:'All_nutrient'!K24)/7 -> 36.362857 | M13: =SUM(All_nutrient!L18:'All_nutrient'!L24)/7 -> 356 | ... AQ13: =SUM(All_nutrient!AP18:'All_nutrient'!AP24)/7 -> 5.263
A14: =All_nutrient!A25 -> 43476 | B14: =SUM(All_nutrient!B19:'All_nutrient'!B25)/7 -> 202.97143 | C14: =SUM(All_nutrient!C19:'All_nutrient'!C25)/7 -> 675.42857 | D14: =SUM(All_nutrient!D19:'All_nutrient'!D25)/7 -> 1837.0571 | E14: =D14-C14 -> 1161.6286 | F14: =SUM(All_nutrient!E19:'All_nutrient'!E25)/7 -> 92.532143 | G14: =SUM(All_nutrient!F19:'All_nutrient'!F25)/7 -> 61.849857 | H14: =SUM(All_nutrient!G19:'All_nutrient'!G25)/7 -> 16.813143 | I14: =SUM(All_nutrient!H19:'All_nutrient'!H25)/7 -> 24.069 | J14: =SUM(All_nutrient!I19:'All_nutrient'!I25)/7 -> 16.021571 | K14: =SUM(All_nutrient!J19:'All_nutrient'!J25)/7 -> 246.14286 | L14: =SUM(All_nutrient!K19:'All_nutrient'!K25)/7 -> 35.321857 | M14: =SUM(All_nutrient!L19:'All_nutrient'!L25)/7 -> 351.57143 | ... AQ14: =SUM(All_nutrient!AP19:'All_nutrient'!AP25)/7 -> 4.7747143
A15: =All_nutrient!A26 -> 43477 | B15: =SUM(All_nutrient!B20:'All_nutrient'!B26)/7 -> 202.74286 | C15: =SUM(All_nutrient!C20:'All_nutrient'!C26)/7 -> 615.42857 | D15: =SUM(All_nutrient!D20:'All_nutrient'!D26)/7 -> 1983.8857 | E15: =D15-C15 -> 1368.4571 | F15: =SUM(All_nutrient!E20:'All_nutrient'!E26)/7 -> 93.005 | G15: =SUM(All_nutrient!F20:'All_nutrient'!F26)/7 -> 66.305857 | H15: =SUM(All_nutrient!G20:'All_nutrient'!G26)/7 -> 17.319286 | I15: =SUM(All_nutrient!H20:'All_nutrient'!H26)/7 -> 25.217857 | J15: =SUM(All_nutrient!I20:'All_nutrient'!I26)/7 -> 16.112286 | K15: =SUM(All_nutrient!J20:'All_nutrient'!J26)/7 -> 272.85714 | L15: =SUM(All_nutrient!K20:'All_nutrient'!K26)/7 -> 37.59 | M15: =SUM(All_nutrient!L20:'All_nutrient'!L26)/7 -> 369 | ... AQ15: =SUM(All_nutrient!AP20:'All_nutrient'!AP26)/7 -> 4.507
... A33: =All_nutrient!A44 -> 43495 | B33: =SUM(All_nutrient!B38:'All_nutrient'!B44)/7 -> 202.2 | C33: =SUM(All_nutrient!C38:'All_nutrient'!C44)/7 -> 462 | D33: =SUM(All_nutrient!D38:'All_nutrient'!D44)/7 -> 2229.4714 | E33: =D33-C33 -> 1767.4714 | F33: =SUM(All_nutrient!E38:'All_nutrient'!E44)/7 -> 123.30286 | G33: =SUM(All_nutrient!F38:'All_nutrient'!F44)/7 -> 76.307143 | H33: =SUM(All_nutrient!G38:'All_nutrient'!G44)/7 -> 18.831857 | I33: =SUM(All_nutrient!H38:'All_nutrient'!H44)/7 -> 30.692857 | J33: =SUM(All_nutrient!I38:'All_nutrient'!I44)/7 -> 19.352429 | K33: =SUM(All_nutrient!J38:'All_nutrient'!J44)/7 -> 281.14286 | L33: =SUM(All_nutrient!K38:'All_nutrient'!K44)/7 -> 44.406286 | M33: =SUM(All_nutrient!L38:'All_nutrient'!L44)/7 -> 266 | ... AQ33: =SUM(All_nutrient!AP38:'All_nutrient'!AP44)/7 -> 6.1671429

Sheet Cu
A1: Copper comments. See pg 424 in Understanding Nutrition 8th ed
A2: Note: I have reduced my food intake target to 1, rather than the 1.5-3 mg/day, because of the copper plumbing we have in the house.

Sheet Mn
A1: Manganese. See p 425 in Understanding Nutrition 8th ed
A2: I have selected 3.5 as the target for safe nutrition.

Sheet Notes
A1: RDA values from Understanding Nutrition 8th ed
A3: Fat (p 124-156)
A4: …saturated fat should be <10% of energy intake; I set my value at 5% of 1800 kcal, or 10 g (~9 kcal/g)
A5: …total fat intake should be < 30% of kcal, or 60 g/day (~9 kcal/g) @1,800 kcal
A6: …minimum fat consumption should be 15% of kcal [p 146]
A9: Items which have a minimum requirement (eg zinc) are highlighted with red when they are OUT of range (ie too little is eatten).
A10: Items which have a maximum requirement (eg cholesterol) are highlighted in green when they are IN range (ie unless too much is eatten).
A11: Items with more than one target (eg normal & DASH) have a range of colors, with dark green being the target
A13: I have based my calculations for fats, etc on an 1,800 kcal/day diet. This may be a little high; if so calculations should be re-done.
A15: Proteins (p160-195)
A16: …consumption should be 0.8 g/kg, or 11% of energy consumption. @ 200 # (90 kg) = 72 g
A18: Exercise/energy: I assume that I burn 10 kcal of energy for every 10 minutes of exercise. Probably not entirely accurate, but close enough.
A19: …especially considering all the other exercise I get.

Sheet Q's
A2: 1. I have heard that chocolate inhibits the absorbtion of Ca. True?
A3: 2. Carbohydrates are always always low; is this a problem?
A4: 3. How accurate are the measurements (in general)? 10%? 30%?
A5: 4. Is using a weekly average a good or bad idea (depends, I suppose, on how fast nutrient leaves your body)

Sheet Ca
A1: Date | B1: Calcium | C1: (Moving 7 day average)
A2: Dash target | B2: ='Moving 7 day ave'!X2 -> 1200
A3: Target | B3: ='Moving 7 day ave'!X3 -> 1200
A4: ='Moving 7 day ave'!A4 -> 43466 | B4: ='Moving 7 day ave'!X4 -> 1093.0414
A5: ='Moving 7 day ave'!A5 -> 43467 | B5: ='Moving 7 day ave'!X5 -> 1092.9414
A6: ='Moving 7 day ave'!A6 -> 43468 | B6: ='Moving 7 day ave'!X6 -> 1068.0086
A7: ='Moving 7 day ave'!A7 -> 43469 | B7: ='Moving 7 day ave'!X7 -> 996.88
A8: ='Moving 7 day ave'!A8 -> 43470 | B8: ='Moving 7 day ave'!X8 -> 982.23714
A9: ='Moving 7 day ave'!A9 -> 43471 | B9: ='Moving 7 day ave'!X9 -> 1111.4857
A10: ='Moving 7 day ave'!A10 -> 43472 | B10: ='Moving 7 day ave'!X10 -> 1119.0286
A11: ='Moving 7 day ave'!A11 -> 43473 | B11: ='Moving 7 day ave'!X11 -> 1103.1571
A12: ='Moving 7 day ave'!A12 -> 43474 | B12: ='Moving 7 day ave'!X12 -> 1166.6571
A13: ='Moving 7 day ave'!A13 -> 43475 | B13: ='Moving 7 day ave'!X13 -> 1165.98
A14: ='Moving 7 day ave'!A14 -> 43476 | B14: ='Moving 7 day ave'!X14 -> 1226.9229
A15: ='Moving 7 day ave'!A15 -> 43477 | B15: ='Moving 7 day ave'!X15 -> 1350.1229
... A33: ='Moving 7 day ave'!A33 -> 43495 | B33: ='Moving 7 day ave'!X33 -> 1390.9571

Sheet Mg
A1: Date | B1: ='Moving 7 day ave'!AA1 -> Magnesium | C1: (Moving 7 day average)
A2: Dash target | B2: ='Moving 7 day ave'!AA2 -> 500
A3: Target | B3: ='Moving 7 day ave'!AA3 -> 420
A4: ='Moving 7 day ave'!A4 -> 43466 | B4: ='Moving 7 day ave'!AA4 -> 540.94
A5: ='Moving 7 day ave'!A5 -> 43467 | B5: ='Moving 7 day ave'!AA5 -> 538.36714
A6: ='Moving 7 day ave'!A6 -> 43468 | B6: ='Moving 7 day ave'!AA6 -> 505.63286
A7: ='Moving 7 day ave'!A7 -> 43469 | B7: ='Moving 7 day ave'!AA7 -> 523.79143
A8: ='Moving 7 day ave'!A8 -> 43470 | B8: ='Moving 7 day ave'!AA8 -> 526.15857
A9: ='Moving 7 day ave'!A9 -> 43471 | B9: ='Moving 7 day ave'!AA9 -> 553.82429
A10: ='Moving 7 day ave'!A10 -> 43472 | B10: ='Moving 7 day ave'!AA10 -> 555.91
A11: ='Moving 7 day ave'!A11 -> 43473 | B11: ='Moving 7 day ave'!AA11 -> 567.57857
A12: ='Moving 7 day ave'!A12 -> 43474 | B12: ='Moving 7 day ave'!AA12 -> 592.24857
A13: ='Moving 7 day ave'!A13 -> 43475 | B13: ='Moving 7 day ave'!AA13 -> 591.91
A14: ='Moving 7 day ave'!A14 -> 43476 | B14: ='Moving 7 day ave'!AA14 -> 562.36857
A15: ='Moving 7 day ave'!A15 -> 43477 | B15: ='Moving 7 day ave'!AA15 -> 527.71857
... A33: ='Moving 7 day ave'!A33 -> 43495 | B33: ='Moving 7 day ave'!AA33 -> 549.95857

Sheet K
A1: Date | B1: ='Moving 7 day ave'!AD1 -> Potassium | C1: (Moving 7 day average)
A2: Dash target | B2: ='Moving 7 day ave'!AD2 -> 4500
A3: Target | B3: ='Moving 7 day ave'!AD3 -> 2000
A4: ='Moving 7 day ave'!A4 -> 43466 | B4: ='Moving 7 day ave'!AD4 -> 4520.6286
A5: ='Moving 7 day ave'!A5 -> 43467 | B5: ='Moving 7 day ave'!AD5 -> 4636.5286
A6: ='Moving 7 day ave'!A6 -> 43468 | B6: ='Moving 7 day ave'!AD6 -> 4416.8857
A7: ='Moving 7 day ave'!A7 -> 43469 | B7: ='Moving 7 day ave'!AD7 -> 4577.3143
A8: ='Moving 7 day ave'!A8 -> 43470 | B8: ='Moving 7 day ave'!AD8 -> 4251.3286
A9: ='Moving 7 day ave'!A9 -> 43471 | B9: ='Moving 7 day ave'!AD9 -> 4668.5857
A10: ='Moving 7 day ave'!A10 -> 43472 | B10: ='Moving 7 day ave'!AD10 -> 4415.6857
A11: ='Moving 7 day ave'!A11 -> 43473 | B11: ='Moving 7 day ave'!AD11 -> 4312.7714
A12: ='Moving 7 day ave'!A12 -> 43474 | B12: ='Moving 7 day ave'!AD12 -> 4203.4714
A13: ='Moving 7 day ave'!A13 -> 43475 | B13: ='Moving 7 day ave'!AD13 -> 4203.4714
A14: ='Moving 7 day ave'!A14 -> 43476 | B14: ='Moving 7 day ave'!AD14 -> 4114.2143
A15: ='Moving 7 day ave'!A15 -> 43477 | B15: ='Moving 7 day ave'!AD15 -> 4034.3
... A33: ='Moving 7 day ave'!A33 -> 43495 | B33: ='Moving 7 day ave'!AD33 -> 4412.9286

Sheet Na
A1: Date | B1: ='Moving 7 day ave'!AF1 -> Sodium | C1: (Moving 7 day average)
A2: Dash target | B2: ='Moving 7 day ave'!AF2 -> 1500
A3: Target | B3: ='Moving 7 day ave'!AF3 -> 2400
A4: ='Moving 7 day ave'!A4 -> 43466 | B4: ='Moving 7 day ave'!AF4 -> 4076.6171
A5: ='Moving 7 day ave'!A5 -> 43467 | B5: ='Moving 7 day ave'!AF5 -> 3718.7457
A6: ='Moving 7 day ave'!A6 -> 43468 | B6: ='Moving 7 day ave'!AF6 -> 3077.4957
A7: ='Moving 7 day ave'!A7 -> 43469 | B7: ='Moving 7 day ave'!AF7 -> 2569.8529
A8: ='Moving 7 day ave'!A8 -> 43470 | B8: ='Moving 7 day ave'!AF8 -> 2130.4243
A9: ='Moving 7 day ave'!A9 -> 43471 | B9: ='Moving 7 day ave'!AF9 -> 2168.9814
A10: ='Moving 7 day ave'!A10 -> 43472 | B10: ='Moving 7 day ave'!AF10 -> 1132.31
A11: ='Moving 7 day ave'!A11 -> 43473 | B11: ='Moving 7 day ave'!AF11 -> 1127.5914
A12: ='Moving 7 day ave'!A12 -> 43474 | B12: ='Moving 7 day ave'!AF12 -> 1786.6057
A13: ='Moving 7 day ave'!A13 -> 43475 | B13: ='Moving 7 day ave'!AF13 -> 1785.59
A14: ='Moving 7 day ave'!A14 -> 43476 | B14: ='Moving 7 day ave'!AF14 -> 2296.8329
A15: ='Moving 7 day ave'!A15 -> 43477 | B15: ='Moving 7 day ave'!AF15 -> 2789.8614
... A33: ='Moving 7 day ave'!A33 -> 43495 | B33: ='Moving 7 day ave'!AF33 -> 3477.4357

Sheet Diet Analysis
A1: How close am I to the RDA & Dash nutrient levels? Green = good; Red = bad. The negative amount is how much more/less I need to eat each week to achieve the goal as an average 7 day nutrient flow.
A3: Nutrient: | B3: Calcium: actual | C3: Calcium: RDA | D3: Calcium: DASH | F3: Magnesium: actual | G3: Magnesium: RDA | H3: Magnesium: DASH | J3: Potassium: actual | K3: Potassium: RDA | L3: Potassium: DASH | N3: Sodium: actual | O3: Sodium: RDA | P3: Sodium: DASH
A4: Goal | C4: 1200 | D4: 1200 | G4: 420 | H4: 500 | K4: 2000 | L4: 4500 | O4: 2400 | P4: 1500 | R4: Notes:
A5: Date | R5: 1. The data reflects the 7 day average
A6: ='Moving 7 day ave'!A4 -> 43466 | B6: ='Moving 7 day ave'!X4 -> 1093.0414 | C6: =-7*(C$4-B6) -> -748.71 | D6: =-7*(D$4-B6) -> -748.71 | F6: ='Moving 7 day ave'!AA4 -> 540.94 | G6: =-7*(G$4-F6) -> 846.58 | H6: =-7*(H$4-F6) -> 286.58 | J6: ='Moving 7 day ave'!AD4 -> 4520.6286 | K6: =-7*(K$4-J6) -> 17644.4 | L6: =-7*(L$4-J6) -> 144.4 | N6: ='Moving 7 day ave'!AF4 -> 4076.6171 | O6: =7*(O$4-N6) -> -11736.32 | P6: =7*(P$4-N6) -> -18036.32 | R6: 2. The number under RDA or DASH represents the amount of that nutrient that was short (- numbers) or over (+ numbers) over the last 7 days.
A7: ='Moving 7 day ave'!A5 -> 43467 | B7: ='Moving 7 day ave'!X5 -> 1092.9414 | C7: =-7*(C$4-B7) -> -749.41 | D7: =-7*(D$4-B7) -> -749.41 | F7: ='Moving 7 day ave'!AA5 -> 538.36714 | G7: =-7*(G$4-F7) -> 828.57 | H7: =-7*(H$4-F7) -> 268.57 | J7: ='Moving 7 day ave'!AD5 -> 4636.5286 | K7: =-7*(K$4-J7) -> 18455.7 | L7: =-7*(L$4-J7) -> 955.7 | N7: ='Moving 7 day ave'!AF5 -> 3718.7457 | O7: =7*(O$4-N7) -> -9231.22 | P7: =7*(P$4-N7) -> -15531.22
A8: ='Moving 7 day ave'!A6 -> 43468 | B8: ='Moving 7 day ave'!X6 -> 1068.0086 | C8: =-7*(C$4-B8) -> -923.94 | D8: =-7*(D$4-B8) -> -923.94 | F8: ='Moving 7 day ave'!AA6 -> 505.63286 | G8: =-7*(G$4-F8) -> 599.43 | H8: =-7*(H$4-F8) -> 39.43 | J8: ='Moving 7 day ave'!AD6 -> 4416.8857 | K8: =-7*(K$4-J8) -> 16918.2 | L8: =-7*(L$4-J8) -> -581.8 | N8: ='Moving 7 day ave'!AF6 -> 3077.4957 | O8: =7*(O$4-N8) -> -4742.47 | P8: =7*(P$4-N8) -> -11042.47
A9: ='Moving 7 day ave'!A7 -> 43469 | B9: ='Moving 7 day ave'!X7 -> 996.88 | C9: =-7*(C$4-B9) -> -1421.84 | D9: =-7*(D$4-B9) -> -1421.84 | F9: ='Moving 7 day ave'!AA7 -> 523.79143 | G9: =-7*(G$4-F9) -> 726.54 | H9: =-7*(H$4-F9) -> 166.54 | J9: ='Moving 7 day ave'!AD7 -> 4577.3143 | K9: =-7*(K$4-J9) -> 18041.2 | L9: =-7*(L$4-J9) -> 541.2 | N9: ='Moving 7 day ave'!AF7 -> 2569.8529 | O9: =7*(O$4-N9) -> -1188.97 | P9: =7*(P$4-N9) -> -7488.97
A10: ='Moving 7 day ave'!A8 -> 43470 | B10: ='Moving 7 day ave'!X8 -> 982.23714 | C10: =-7*(C$4-B10) -> -1524.34 | D10: =-7*(D$4-B10) -> -1524.34 | F10: ='Moving 7 day ave'!AA8 -> 526.15857 | G10: =-7*(G$4-F10) -> 743.11 | H10: =-7*(H$4-F10) -> 183.11 | J10: ='Moving 7 day ave'!AD8 -> 4251.3286 | K10: =-7*(K$4-J10) -> 15759.3 | L10: =-7*(L$4-J10) -> -1740.7 | N10: ='Moving 7 day ave'!AF8 -> 2130.4243 | O10: =7*(O$4-N10) -> 1887.03 | P10: =7*(P$4-N10) -> -4412.97
A11: ='Moving 7 day ave'!A9 -> 43471 | B11: ='Moving 7 day ave'!X9 -> 1111.4857 | C11: =-7*(C$4-B11) -> -619.6 | D11: =-7*(D$4-B11) -> -619.6 | F11: ='Moving 7 day ave'!AA9 -> 553.82429 | G11: =-7*(G$4-F11) -> 936.77 | H11: =-7*(H$4-F11) -> 376.77 | J11: ='Moving 7 day ave'!AD9 -> 4668.5857 | K11: =-7*(K$4-J11) -> 18680.1 | L11: =-7*(L$4-J11) -> 1180.1 | N11: ='Moving 7 day ave'!AF9 -> 2168.9814 | O11: =7*(O$4-N11) -> 1617.13 | P11: =7*(P$4-N11) -> -4682.87
A12: ='Moving 7 day ave'!A10 -> 43472 | B12: ='Moving 7 day ave'!X10 -> 1119.0286 | C12: =-7*(C$4-B12) -> -566.8 | D12: =-7*(D$4-B12) -> -566.8 | F12: ='Moving 7 day ave'!AA10 -> 555.91 | G12: =-7*(G$4-F12) -> 951.37 | H12: =-7*(H$4-F12) -> 391.37 | J12: ='Moving 7 day ave'!AD10 -> 4415.6857 | K12: =-7*(K$4-J12) -> 16909.8 | L12: =-7*(L$4-J12) -> -590.2 | N12: ='Moving 7 day ave'!AF10 -> 1132.31 | O12: =7*(O$4-N12) -> 8873.83 | P12: =7*(P$4-N12) -> 2573.83
A13: ='Moving 7 day ave'!A11 -> 43473 | B13: ='Moving 7 day ave'!X11 -> 1103.1571 | C13: =-7*(C$4-B13) -> -677.9 | D13: =-7*(D$4-B13) -> -677.9 | F13: ='Moving 7 day ave'!AA11 -> 567.57857 | G13: =-7*(G$4-F13) -> 1033.05 | H13: =-7*(H$4-F13) -> 473.05 | J13: ='Moving 7 day ave'!AD11 -> 4312.7714 | K13: =-7*(K$4-J13) -> 16189.4 | L13: =-7*(L$4-J13) -> -1310.6 | N13: ='Moving 7 day ave'!AF11 -> 1127.5914 | O13: =7*(O$4-N13) -> 8906.86 | P13: =7*(P$4-N13) -> 2606.86
A14: ='Moving 7 day ave'!A12 -> 43474 | B14: ='Moving 7 day ave'!X12 -> 1166.6571 | C14: =-7*(C$4-B14) -> -233.4 | D14: =-7*(D$4-B14) -> -233.4 | F14: ='Moving 7 day ave'!AA12 -> 592.24857 | G14: =-7*(G$4-F14) -> 1205.74 | H14: =-7*(H$4-F14) -> 645.74 | J14: ='Moving 7 day ave'!AD12 -> 4203.4714 | K14: =-7*(K$4-J14) -> 15424.3 | L14: =-7*(L$4-J14) -> -2075.7 | N14: ='Moving 7 day ave'!AF12 -> 1786.6057 | O14: =7*(O$4-N14) -> 4293.76 | P14: =7*(P$4-N14) -> -2006.24
A15: ='Moving 7 day ave'!A13 -> 43475 | B15: ='Moving 7 day ave'!X13 -> 1165.98 | C15: =-7*(C$4-B15) -> -238.14 | D15: =-7*(D$4-B15) -> -238.14 | F15: ='Moving 7 day ave'!AA13 -> 591.91 | G15: =-7*(G$4-F15) -> 1203.37 | H15: =-7*(H$4-F15) -> 643.37 | J15: ='Moving 7 day ave'!AD13 -> 4203.4714 | K15: =-7*(K$4-J15) -> 15424.3 | L15: =-7*(L$4-J15) -> -2075.7 | N15: ='Moving 7 day ave'!AF13 -> 1785.59 | O15: =7*(O$4-N15) -> 4300.87 | P15: =7*(P$4-N15) -> -1999.13
A16: ='Moving 7 day ave'!A14 -> 43476 | B16: ='Moving 7 day ave'!X14 -> 1226.9229 | C16: =-7*(C$4-B16) -> 188.46 | D16: =-7*(D$4-B16) -> 188.46 | F16: ='Moving 7 day ave'!AA14 -> 562.36857 | G16: =-7*(G$4-F16) -> 996.58 | H16: =-7*(H$4-F16) -> 436.58 | J16: ='Moving 7 day ave'!AD14 -> 4114.2143 | K16: =-7*(K$4-J16) -> 14799.5 | L16: =-7*(L$4-J16) -> -2700.5 | N16: ='Moving 7 day ave'!AF14 -> 2296.8329 | O16: =7*(O$4-N16) -> 722.17 | P16: =7*(P$4-N16) -> -5577.83
A17: ='Moving 7 day ave'!A15 -> 43477 | B17: ='Moving 7 day ave'!X15 -> 1350.1229 | C17: =-7*(C$4-B17) -> 1050.86 | D17: =-7*(D$4-B17) -> 1050.86 | F17: ='Moving 7 day ave'!AA15 -> 527.71857 | G17: =-7*(G$4-F17) -> 754.03 | H17: =-7*(H$4-F17) -> 194.03 | J17: ='Moving 7 day ave'!AD15 -> 4034.3 | K17: =-7*(K$4-J17) -> 14240.1 | L17: =-7*(L$4-J17) -> -3259.9 | N17: ='Moving 7 day ave'!AF15 -> 2789.8614 | O17: =7*(O$4-N17) -> -2729.03 | P17: =7*(P$4-N17) -> -9029.03
A18: ='Moving 7 day ave'!A16 -> 43478 | B18: ='Moving 7 day ave'!X16 -> 1399.8086 | C18: =-7*(C$4-B18) -> 1398.66 | D18: =-7*(D$4-B18) -> 1398.66 | F18: ='Moving 7 day ave'!AA16 -> 542.27571 | G18: =-7*(G$4-F18) -> 855.93 | H18: =-7*(H$4-F18) -> 295.93 | J18: ='Moving 7 day ave'!AD16 -> 3952.7571 | K18: =-7*(K$4-J18) -> 13669.3 | L18: =-7*(L$4-J18) -> -3830.7 | N18: ='Moving 7 day ave'!AF16 -> 2953.8329 | O18: =7*(O$4-N18) -> -3876.83 | P18: =7*(P$4-N18) -> -10176.83
... A35: ='Moving 7 day ave'!A33 -> 43495 | B35: ='Moving 7 day ave'!X33 -> 1390.9571 | C35: =-7*(C$4-B35) -> 1336.7 | D35: =-7*(D$4-B35) -> 1336.7 | F35: ='Moving 7 day ave'!AA33 -> 549.95857 | G35: =-7*(G$4-F35) -> 909.71 | H35: =-7*(H$4-F35) -> 349.71 | J35: ='Moving 7 day ave'!AD33 -> 4412.9286 | K35: =-7*(K$4-J35) -> 16890.5 | L35: =-7*(L$4-J35) -> -609.5 | N35: ='Moving 7 day ave'!AF33 -> 3477.4357 | O35: =7*(O$4-N35) -> -7542.05 | P35: =7*(P$4-N35) -> -13842.05
